BEGIN:VCALENDAR
VERSION:2.0
PRODID:-//Tukios.com/
BEGIN:VEVENT
UID:00273348-bb80-4198-b096-34a14be421fd@www.blueridge-funeral-service.com
DTSTAMP:20260423T230718Z
DTSTART:20260426
SUMMARY:Interment for Karen Whitt Stines
DESCRIPTION:
URL:https://www.blueridge-funeral-service.com/obituaries/karen-stines
LOCATION:Nate Shleton Cemetery 123 Blankenship Road  Mars Hill NC 28754
GEO:35.9017968;-82.577169
END:VEVENT
END:VCALENDAR