BEGIN:VCALENDAR
VERSION:2.0
PRODID:-//Tukios.com/
BEGIN:VEVENT
UID:989dbadc-5228-4065-a1ca-2b43dc6d23f3@www.blueridge-funeral-service.com
DTSTAMP:20260423T230738Z
DTSTART:20260426T173000Z
DTEND:20260426T183000Z
SUMMARY:Visitation for Karen Whitt Stines
DESCRIPTION:
URL:https://www.blueridge-funeral-service.com/obituaries/karen-stines
LOCATION:Blue Ridge Funeral & Cremation Service 7626 NC Hwy 213  Mars 
	Hill NC 28754
GEO:35.8253227;-82.5697929
END:VEVENT
END:VCALENDAR