BEGIN:VCALENDAR
VERSION:2.0
PRODID:-//Tukios.com/
BEGIN:VEVENT
UID:98bb02a0-f954-4117-85d3-150a45e7dabf@www.blueridge-funeral-service.com
DTSTAMP:20260423T230711Z
DTSTART:20260426T183000Z
DTEND:20260426T193000Z
SUMMARY:Funeral Service for Karen Whitt Stines
DESCRIPTION:
URL:https://www.blueridge-funeral-service.com/obituaries/karen-stines
LOCATION:Blue Ridge Funeral & Cremation Service 7626 NC Hwy 213  Mars 
	Hill NC 28754
GEO:35.8253227;-82.5697929
END:VEVENT
END:VCALENDAR