BEGIN:VCALENDAR
VERSION:2.0
PRODID:-//Tukios.com/
BEGIN:VEVENT
UID:beb54715-b0fc-41b7-bde9-b3156e3aaec1@www.blueridge-funeral-service.com
DTSTAMP:20260423T194730Z
DTSTART:20260425T173000Z
DTEND:20260425T183000Z
SUMMARY:Visitation for Linda Parham Metcalf
DESCRIPTION:
URL:https://www.blueridge-funeral-service.com/obituaries/linda-parham-metcalf
LOCATION:Blue Ridge Funeral & Cremation Service 7626 NC Hwy 213  Mars 
	Hill NC 28754
GEO:35.8253227;-82.5697929
END:VEVENT
END:VCALENDAR