BEGIN:VCALENDAR
VERSION:2.0
PRODID:-//Tukios.com/
BEGIN:VEVENT
UID:c320c0db-a07a-4422-9cfb-5f3198edb3fd@www.blueridge-funeral-service.com
DTSTAMP:20260423T194730Z
DTSTART:20260425T183000Z
DTEND:20260425T193000Z
SUMMARY:Funeral Service for Linda Parham Metcalf
DESCRIPTION:
URL:https://www.blueridge-funeral-service.com/obituaries/linda-parham-metcalf
LOCATION:Blue Ridge Funeral & Cremation Service 7626 NC Hwy 213  Mars 
	Hill NC 28754
GEO:35.8253227;-82.5697929
END:VEVENT
END:VCALENDAR