BEGIN:VCALENDAR
VERSION:2.0
PRODID:-//Tukios.com/
BEGIN:VEVENT
UID:b09a41d0-2689-450f-af74-a91b34f3363c@www.blueridge-funeral-service.com
DTSTAMP:20260423T194730Z
DTSTART:20260425
SUMMARY:Interment for Linda Parham Metcalf
DESCRIPTION:
URL:https://www.blueridge-funeral-service.com/obituaries/linda-parham-metcalf
LOCATION:Pine Forest Baptist Church Cemetery 102 Ivy Hill Road  
	Weaverville NC 28787
GEO:35.7777591;-82.5136758
END:VEVENT
END:VCALENDAR