BEGIN:VCALENDAR
VERSION:2.0
PRODID:-//Tukios.com/
BEGIN:VEVENT
UID:70fd11cb-a1e3-4f15-beed-427cdbd73d0e@www.blueridge-funeral-service.com
DTSTAMP:20260422T235937Z
DTSTART:20260425T150000Z
DTEND:20260425T160000Z
SUMMARY:Graveside Service for Robyn Wrae Brown
DESCRIPTION:
URL:https://www.blueridge-funeral-service.com/obituaries/robyn-brown
LOCATION:West Memorial Park 40 Roberts St  Weaverville NC 28787
GEO:35.6972621;-82.557976
END:VEVENT
END:VCALENDAR