BEGIN:VCALENDAR
VERSION:2.0
PRODID:-//Tukios.com/
BEGIN:VEVENT
UID:453ba71f-6c1e-45c2-bfb6-19c5d0e392b3@www.blueridge-funeral-service.com
DTSTAMP:20260419T191805Z
DTSTART:20260420T210000Z
DTEND:20260420T230000Z
SUMMARY:Visitation for Shirley Katherine Franklin
DESCRIPTION:
URL:https://www.blueridge-funeral-service.com/obituaries/shirley-franklin
LOCATION:Blue Ridge Funeral & Cremation Service 7626 NC Hwy 213  Mars 
	Hill NC 28754
GEO:35.8253227;-82.5697929
END:VEVENT
END:VCALENDAR