BEGIN:VCALENDAR
VERSION:2.0
PRODID:-//Tukios.com/
BEGIN:VEVENT
UID:0bc14f7f-b11f-4271-bea4-69cbe70f10f2@www.blueridge-funeral-service.com
DTSTAMP:20260419T192403Z
DTSTART:20260421T150000Z
DTEND:20260421T160000Z
SUMMARY:Funeral Service for Shirley Katherine Franklin
DESCRIPTION:
URL:https://www.blueridge-funeral-service.com/obituaries/shirley-franklin
LOCATION:Salem United Methodist Church 9 Salem Church Road  Weaverville 
	NC 28787
GEO:35.7426996;-82.5485746
END:VEVENT
END:VCALENDAR