BEGIN:VCALENDAR
VERSION:2.0
PRODID:-//Tukios.com/
BEGIN:VEVENT
UID:f043ea98-cd1a-4efc-8602-3d41c13ccb57@www.blueridge-funeral-service.com
DTSTAMP:20260419T192525Z
DTSTART:20260421
SUMMARY:Interment for Shirley Katherine Franklin
DESCRIPTION:
URL:https://www.blueridge-funeral-service.com/obituaries/shirley-franklin
LOCATION:Clark's Chapel Cemetery 5 Clarks Chapel Church Road  Weaverville 
	NC 28787
GEO:35.7149915;-82.5630476
END:VEVENT
END:VCALENDAR